BEGIN:VCALENDAR
VERSION:2.0
PRODID:-//SUMPAN//Kalender//DE
CALSCALE:GREGORIAN
METHOD:PUBLISH
BEGIN:VEVENT
UID:sumpan-76@sumpan.de
DTSTAMP:20260423T084915Z
SUMMARY:A Tribute to Bob Dylan
DTSTART;TZID=Europe/Berlin:20260509T200000
DTEND;TZID=Europe/Berlin:20260509T220000
LOCATION:SUMPAN bei MusikVilla
DESCRIPTION:Zum 85. Geburtstag der Folk-Ikone Bob Dylan widmen Mr Jones und Robert Hasleder dem Meister einen ganz besonderen Abend. Mit großer musikalischer Tiefe\, viel Gefühl und spürbarer Ehrfurcht interpretieren sie Klassiker und selten gehörte Perlen aus Dylans Schaffen – mal nah am Original\, mal in ganz eigener\, berührender Version.\nEin Abend voller Musik\, die nicht dem Mainstream folgt\, sondern Herz und Haltung zeigt – ganz im Sinne des Mannes\, dem sie gewidmet ist. Ein Muss für Dylan-Fans – und alle\, die es noch werden wollen.\n\nhttps://www.sumpan.de/events/a-tribute-to-bob-dylan-2026-05-09.html
URL:https://www.sumpan.de/events/a-tribute-to-bob-dylan-2026-05-09.html
END:VEVENT
END:VCALENDAR
